BEGIN:VCALENDAR
VERSION:2.0
PRODID:-//Õpetajate Leht - ECPv6.15.20//NONSGML v1.0//EN
CALSCALE:GREGORIAN
METHOD:PUBLISH
X-WR-CALNAME:Õpetajate Leht
X-ORIGINAL-URL:https://www.opleht.ee
X-WR-CALDESC:Events for Õpetajate Leht
REFRESH-INTERVAL;VALUE=DURATION:PT1H
X-Robots-Tag:noindex
X-PUBLISHED-TTL:PT1H
BEGIN:VTIMEZONE
TZID:Europe/Tallinn
BEGIN:DAYLIGHT
TZOFFSETFROM:+0200
TZOFFSETTO:+0300
TZNAME:EEST
DTSTART:20240331T010000
END:DAYLIGHT
BEGIN:STANDARD
TZOFFSETFROM:+0300
TZOFFSETTO:+0200
TZNAME:EET
DTSTART:20241027T010000
END:STANDARD
BEGIN:DAYLIGHT
TZOFFSETFROM:+0200
TZOFFSETTO:+0300
TZNAME:EEST
DTSTART:20250330T010000
END:DAYLIGHT
BEGIN:STANDARD
TZOFFSETFROM:+0300
TZOFFSETTO:+0200
TZNAME:EET
DTSTART:20251026T010000
END:STANDARD
BEGIN:DAYLIGHT
TZOFFSETFROM:+0200
TZOFFSETTO:+0300
TZNAME:EEST
DTSTART:20260329T010000
END:DAYLIGHT
BEGIN:STANDARD
TZOFFSETFROM:+0300
TZOFFSETTO:+0200
TZNAME:EET
DTSTART:20261025T010000
END:STANDARD
BEGIN:DAYLIGHT
TZOFFSETFROM:+0200
TZOFFSETTO:+0300
TZNAME:EEST
DTSTART:20270328T010000
END:DAYLIGHT
BEGIN:STANDARD
TZOFFSETFROM:+0300
TZOFFSETTO:+0200
TZNAME:EET
DTSTART:20271031T010000
END:STANDARD
END:VTIMEZONE
BEGIN:VEVENT
DTSTART;TZID=Europe/Tallinn:20251201T000000
DTEND;TZID=Europe/Tallinn:20260515T235959
DTSTAMP:20260421T130232
CREATED:20251201T150907Z
LAST-MODIFIED:20251201T150907Z
UID:246930-1764547200-1778889599@www.opleht.ee
SUMMARY:Lugemisbingo Tallinna koolide 1.–9. klassidele
DESCRIPTION:Õpetajale – osale klassiga lugemisväljakutses ja võida tasuta ekskursioon! \nKutsume 1.–9. klasse osalema põnevas lugemisvõistluses. Iga klass saab oma bingolehe\, kuhu koguda templeid loetud raamatute ja lühikese tagasiside eest. Kui leht saab täis\, on teie klassil võimalus võita tasuta ekskursioon Eesti Jalgpallimuuseumisse. Lugemine muutub nii mänguliseks\, põnevaks ja kogu klassi kaasavaks. Liitu väljakutsega ja avastage koos uusi raamatuid. Lugemisbingo toimub 15. maini 2026. \nLoe lähemalt tallinnaraamatukogud.ee/lasteleht/lugemisbingo/
URL:https://www.opleht.ee/event/lugemisbingo-tallinna-koolide-1-9-klassidele/
END:VEVENT
BEGIN:VEVENT
DTSTART;TZID=Europe/Tallinn:20260319T000000
DTEND;TZID=Europe/Tallinn:20260518T235959
DTSTAMP:20260421T130232
CREATED:20250905T130550Z
LAST-MODIFIED:20250905T130550Z
UID:231093-1773878400-1779148799@www.opleht.ee
SUMMARY:Kevadnäitus
DESCRIPTION:19.03.26–18.05. 2026  \nTallinna Kunstihoone Lasnamäe Paviljon J. Koorti 22\, publik@kunstihoone.ee“Kevadnäitus” Teemad:  kunst kui kommunikatsioonivahend iseendaga ja ühikonnaga. \nI kooliaste:  “Vaatamise kooli” järjestikkuste programmide seeria \nII–III kooliaste\, gümnaasium: “Tõlgenduspidu”  \nKeeleõppijale (A2\, B1\, B2): “Sõnad\, kunst ja tähendus” \nGümnaasiumi eriprogramm : “Modernism”
URL:https://www.opleht.ee/event/kevadnaitus/
END:VEVENT
BEGIN:VEVENT
DTSTART;TZID=Europe/Tallinn:20260330T000000
DTEND;TZID=Europe/Tallinn:20260429T235959
DTSTAMP:20260421T130232
CREATED:20260330T193755Z
LAST-MODIFIED:20260330T194904Z
UID:252332-1774828800-1777507199@www.opleht.ee
SUMMARY:Esseekonkurss klassikalisest muusikast
DESCRIPTION:Eesti Filharmoonia Kammerkoor ja Tallinna Filharmoonia koostöös kultuurilehega Sirp kutsuvad 16–26-aastaseid noori osalema esseekonkursil klassikalisest muusikast. \nEsseekonkurss on seotud kontserdiga\, kus Eesti Filharmoonia Kammerkoor ja Tallinna Kammerorkester esitavad Läti tuntuima helilooja Pēteris Vasksi teoseid dirigent Tõnu Kaljuste juhatusel. \nKontsert „Pēteris Vasks 80. Elukaar muusikas“ toimub 2. mail kell 19 Tallinna Metodisti kirikus. Konkursile registreerunud 16–26-aastastele noortele ja neid juhendavatele õpetajatele on sissepääs tasuta. \nKonkursi eesmärk on tuua noored kontserdisaali ning julgustada neid klassikalise muusika üle mõtlema\, kirjutama ja kultuurivestlustes kaasa rääkima. Osalejatelt oodatakse vabas vormis esseed\, mis lähtub kontserdikogemusest: kuidas muusika neid kõnetab\, milliseid mõtteid\, seoseid või küsimusi see tekitab. Essee võib olla kirjutatud ka kontserdiarvustuse vormis. \nKorraldajate sõnul aitab algatus vähendada barjääre klassikalise muusika juurde jõudmisel ning pakub noortele sisukat võimalust arendada oma kirjutamis-\, analüüsi- ja eneseväljendusoskust. Samuti loob konkurss noorte häältele avaliku väljundi: võidutöö avaldatakse Sirbis. Eelmise aasta esseekonkursi võitnud Säde Einasto on praeguseks Sirbile kirjutanud juba õige mitu artiklit. \nEsseekonkursi tingimused: \n\nosalema on oodatud 16–26-aastased noored\,\nessee maht on 3000–8000 tähemärki (koos tühikutega).\n\nKonkursile registreerimiseks tuleb saata osalemissoov hiljemalt 29. aprilliks e-aadressil epcc@epcc.ee. \nEssee esitamise tähtaeg on 18. mai 2026. \nTöid hindab žürii\, kuhu kuuluvad Eesti Filharmoonia Kammerkoori\, Tallinna Filharmoonia ja Sirbi esindajad. Võidutöö avaldatakse kultuurilehes Sirp ning parimaid kirjutajaid tunnustatakse eripreemiate ja auhindadega. \nLisainfo epcc.ee\nKontakt epcc@epcc.ee
URL:https://www.opleht.ee/event/esseekonkurss-klassikalisest-muusikast/
END:VEVENT
BEGIN:VEVENT
DTSTART;TZID=Europe/Tallinn:20260416T000000
DTEND;TZID=Europe/Tallinn:20260426T235959
DTSTAMP:20260421T130232
CREATED:20260416T110237Z
LAST-MODIFIED:20260416T110237Z
UID:253153-1776297600-1777247999@www.opleht.ee
SUMMARY:EMTA heli\, visuaali ja muusikatehnoloogia festival "COMMUTE"
DESCRIPTION:EMTA heli\, visuaali ja muusikatehnoloogia festival COMMUTE 16.–26. aprillini \n16.4 algas kümme päeva kestev Eesti muusika- ja teatriakadeemia (EMTA) heli\, visuaali ja muusikatehnoloogia festival “COMMUTE”\, mis kannab sel korral alapealkirja „Soolo“.  \n“Seekordne festival kestab rekordiliselt 10 päeva ning keskne teema on soolo. Olgu siis üksinda laval\, solistina ansambli ees või hoopis heliloojana omaette muusikat luues. Püüame mõtestada soolo tähendust erinevatest vaatepunktidest ja kutsume ka publikut sellele tähelepanu pöörama. Festivali raames toimub EMTA-s ka rahvusvaheline loominguprojekt SOLO+\, milles osalevad lisaks meie akadeemiale viie Euroopa muusikakõrgkooli üliõpilased\,” sõnavad festivali eestvedajad\, Eesti muusika- ja teatriakadeemia õppejõud Einike Leppik ja Paolo Girol.  \n“COMMUTE” pakub publikule EMTA heliloomingu ja improvisatsioonilise muusika osakonna uudisteoseid\, mis on seotud terviklikeks kontsertideks. Festivali idee on algusest peale olnud ühendada olemasolev literatuur\, professionaalne kogemus ja noorte värsked loomesähvatused\, luua pinnas ja väljund sünergiaks. Lisaks tudengitöödele kaasatakse festivalile nii kodumaal kui ka rahvusvaheliselt silmapaistvate muusikute-kunstnike loomingut. \nFestival leiab aset Eesti muusika- ja teatriakadeemias\, Kanuti Gildi SAALis\, Püha Vaimu SAALis ja Sõpruse kinos .  \nPaljudele sündmustele on sissepääs tasuta! \nProgrammiga saab tutvuda  https://emtasaalid.ee/commute-8/
URL:https://www.opleht.ee/event/emta-heli-visuaali-ja-muusikatehnoloogia-festival-commute/
END:VEVENT
BEGIN:VEVENT
DTSTART;TZID=Europe/Tallinn:20260416T000000
DTEND;TZID=Europe/Tallinn:20260430T235959
DTSTAMP:20260421T130232
CREATED:20260416T112615Z
LAST-MODIFIED:20260416T112615Z
UID:253157-1776297600-1777593599@www.opleht.ee
SUMMARY:Koolirahu kandideerimisperiood
DESCRIPTION:Lastekaitse liit ja koolirahu liikumine on avanud kandideerimisvooru kohalikele omavalitsustele\, kes soovivad saada koolirahu tiitli kandjaks 2026/2027. õppeaastal. Kandideerimisperiood kestab 30. aprillini 2026. \nKoolirahu on üle-eestiline algatus\, mida on välja kuulutatud juba enam kui 20 aastat ning mille eesmärk on edendada turvalist ja hoolivat koolikeskkonda kõigile haridusega seotud osapooltele. Igal aastal valitakse üks omavalitsus\, kes aasta vältel veab eest koolirahu ning korraldab 1. septembril piduliku üleriigilise koolirahu väljakuulutamise tseremoonia. \n2025/2026. õppeaastal kandis koolirahu tiitlit Saku vald\, kellele andis teatepulga üle eelmine tiitlikandja Rakvere linn. \nSaku vallavanem Marti Rehemaa nägi koolirahu tiitlis võimalust tugevdada kogukonna ühtsust ja turvalisust. „Koolirahu aitab kaasa terve kogukonna turvalisele keskkonnale. Julgustame inimesi rohkem märkama\, vajadusel sekkuma ja abi otsima. Oluline on tõsta esikohale koostöine suhe pere ja kooli vahel. Lapsed on meie tulevik ja nende kaudu jõuame kodudesse\, et ka seal üksteist ja kogukonda austataks\,“ sõnas Rehemaa. \nKoolirahu tiitli kandja kohustuste hulka kuulub üleriigilise koolirahu väljakuulutamise tseremoonia korraldamine 1. septembril; koolirahu väärtuste ehk turvalisuse\, hoolivuse\, kaasatuse\, vaimse tervise ning hariduse väärtustamise eeskujulik elluviimine\, samuti noorte ja kogukonna kaasamine väärtuspõhistesse tegevustesse terve õppeaasta vältel. \nKandideerimiseks tuleb täita vorm\, kus omavalitsused saavad tutvustada oma piirkonda\, põhjendada sobivust tiitli kandjaks ning kirjeldada oma visiooni koolirahu tseremooniast ja õppeaasta tegevustest. Rohkem infot ja kandideerimisvormi leiab koolirahu veebilehelt .
URL:https://www.opleht.ee/event/koolirahu-kandideerimisperiood/
END:VEVENT
BEGIN:VEVENT
DTSTART;TZID=Europe/Tallinn:20260420T000000
DTEND;TZID=Europe/Tallinn:20260421T235959
DTSTAMP:20260421T130232
CREATED:20260414T132039Z
LAST-MODIFIED:20260414T132039Z
UID:253055-1776643200-1776815999@www.opleht.ee
SUMMARY:Kultuurihäkaton
DESCRIPTION:Tallinna ülikooli ühiskonnateaduste instituudi projekti „Kultuurisündmuste roll erivajadustega noorte ühiskonda kaasamisel“ raames toimub 20. ja 21. aprillil Viljandis Ugala teatris kahepäevane kultuurihäkaton. Projekti rahastab kultuuriministeerium. \nKultuurihäkatonil kohtuvad erineva elukogemuse ja ligipääsuvajadustega kultuurihuvilised ning teatrivaldkonna professionaalid. Kahe päeva jooksul tegutsetakse väikestes meeskondades\, et ühendada erialased teadmised isiklike kogemustega ning töötada välja uusi\, ligipääsetavamaid lahendusi. Häkaton toimub Ugala teatris\, kes on koos Eesti puuetega inimeste kojaga Tallinna ülikooli ja Eesti muusika- ja teatriakadeemia teadusprojekti koostööpartner. \nHäkaton on koosloomeformaat\, mille eesmärk ei ole pelgalt ideede kogumine\, vaid ligipääsetavuse\, koostöö ja kaasamise sügavam mõtestamine. Fookuses ei ole olemasolevate praktikate kohandamine\, vaid selliste teatrisündmuste kujundamine\, mis arvestavad ligipääsetavusega juba ideetasandil. Ligipääsetavus hõlmab nii füüsilist keskkonda\, kommunikatsiooni ja suhtlusviise kui ka erinevaid osalemisvõimalusi. \nHäkatoni peakorraldaja\, Tallinna ülikooli nooremteadur Keiu Virro rõhutab\, et õigus kultuurile on inimõigus. „Eesti ei ole veel seal\, kus kõigile puuetega või erivajadustega inimestele oleks tagatud võrdne ligipääs kultuuri kogemisele ja loomisele. Samas on meie teatrites huvi ligipääsetavuse vastu kasvamas. Kultuurihäkaton on osa teadusuuringust\, mille eesmärk on suurendada erivajadustega noorte osalust Eesti kultuurielus. Ühtlasi loob see võimalusi uute loovate ideede ja koostöövõrgustike tekkeks\,“ ütles Virro. Projektijuht\, kultuurilise mitmekesisuse professor Airi-Alina Allaste lisab\, et kultuuriline mitmekesisus ja kaasamine on sidusa ühiskonna alus\, kuid siiani piiravad noorte osalust erinevad barjäärid. ”Seetõttu on oluline arendada teadmisi ja lahendusi\, mis aitavad muuta kultuuri kõigile kättesaadavamaks”. \nRahvusvaheline kogemus näitab\, et ligipääsetavuse arvestamine ja mitmekesiste kogemuste kaasamine rikastab ka teatrit ennast. Üheks näiteks on Šotimaa teater Birds of Paradise\, mille tegevus on aidanud laiendada arusaama sellest\, kuidas muuta teater erinevatele sihtrühmadele ligipääsetavaks. Nende esindajad osalevad häkatonil rahvusvaheliste mentoritena. \nEestist toetavad meeskondi koosloomeeksperdid Kaie Koppel\, Kadri Kangro ja Keiu Telve. Rahvusvahelised mentorid on Kelsie Acton\, Ellie Tillotson\, Mairi Taylor ja Morna McGeoch. Ligipääsetavuskonsultantidena panustavad Maikel Mõttus ja Jüri Lehtmets Eesti puuetega inimeste pojast. \nHäkatonil osalevad kultuurivaldkonna esindajad Ugala teatrist\, Estoniast\, Rakvere teatrist\, Kanuti Gildi SAAList\, Vanemuisest\, VAT Teatrist ja Eesti noorsooteatrist\, samuti mitmed vabakutselised kultuuritöötajad ning kultuuriministeeriumi esindajad. \nKultuurihäkatoni käigus sündinud ideid esitletakse 21. aprilli õhtul Ugala teatris.
URL:https://www.opleht.ee/event/kultuurihakaton/
END:VEVENT
END:VCALENDAR